BEGIN:VCALENDAR
VERSION:2.0
PRODID:-//ChamberMaster//Event Calendar 2.0//EN
METHOD:PUBLISH
X-PUBLISHED-TTL:P3D
REFRESH-INTERVAL:P3D
CALSCALE:GREGORIAN
BEGIN:VEVENT
DTSTART;VALUE=DATE:20210515
DTEND;VALUE=DATE:20210516
TRANSP:TRANSPARENT
X-MICROSOFT-CDO-ALLDAYEVENT:TRUE
SUMMARY:Virtual Silent Auction
DESCRIPTION:Take a look at the treasures Southold Historical Society is offering for its Silent Auction! Preview is now up\, and bidding starts at 9:00am on May 1\, 2021\, running through 5:00pm on May 15. We've gathered significant donations of gift items\, artwork\, jewelry\, VIP wine tasting\, restaurant gift certificates and more!\n\nAll proceeds from this exciting auction will benefit the history museum. Join the fun!\n\nPreview at: https://bit.ly/3wYrPNP
X-ALT-DESC;FMTTYPE=text/html:<p><span style="font-size:14px"><span style="font-family:arial\,helvetica\,sans-serif">Take a look at the treasures Southold Historical Society is offering for its Silent Auction! Preview is now up\, and bidding starts at 9:00am on May 1\, 2021\, running through 5:00pm on May 15. We&rsquo\;ve gathered significant donations of gift items\, artwork\, jewelry\, VIP wine tasting\, restaurant gift certificates and more!<br />\nAll proceeds from this exciting auction will benefit the history museum. Join the fun!<br />\nPreview at: https://bit.ly/3wYrPNP </span></span></p>\n
LOCATION:54325 Main Rd. Southold\, NY 11971
UID:e.3612.287
SEQUENCE:3
DTSTAMP:20260419T144327Z
URL:https://business.northforkchamber.org/events/details/virtual-silent-auction-287
END:VEVENT

END:VCALENDAR
