BEGIN:VCALENDAR
VERSION:2.0
PRODID:-//ChamberMaster//Event Calendar 2.0//EN
METHOD:PUBLISH
X-PUBLISHED-TTL:P3D
REFRESH-INTERVAL:P3D
CALSCALE:GREGORIAN
BEGIN:VEVENT
DTSTART:20210609T200000Z
DTEND:20210609T210000Z
X-MICROSOFT-CDO-ALLDAYEVENT:FALSE
SUMMARY:Virtual Outreach - Tick-Borne Disease
DESCRIPTION:Please join us for this virtual event to learn all you need to know about Tick-Born Disease. Presented by Jerry Simons\, RPA-C of The Regional Tick-Borne Disease Resource Center at Stony Brook Southampton
X-ALT-DESC;FMTTYPE=text/html:<span style="color: rgb(35\, 35\, 51)\; font-family: Lato\, Helvetica\, Arial\; font-size: 14px\;">Please join us for this virtual event to learn all you need to know about Tick-Born Disease. Presented by Jerry Simons\, RPA-C of The Regional Tick-Borne Disease Resource Center at Stony Brook Southampton</span>
LOCATION:Zoom Webinar
UID:e.3612.298
SEQUENCE:3
DTSTAMP:20260423T114745Z
URL:https://business.northforkchamber.org/events/details/virtual-outreach-tick-borne-disease-298
END:VEVENT

END:VCALENDAR
