BEGIN:VCALENDAR
VERSION:2.0
PRODID:-//ChamberMaster//Event Calendar 2.0//EN
METHOD:PUBLISH
X-PUBLISHED-TTL:P3D
REFRESH-INTERVAL:P3D
CALSCALE:GREGORIAN
BEGIN:VEVENT
DTSTART:20200925T223000Z
DTEND:20200925T233000Z
X-MICROSOFT-CDO-ALLDAYEVENT:FALSE
SUMMARY:Unmasking the Heroes
DESCRIPTION:Please join us for Peconic Bay\n\nMedical Center's 2020 Virtual Gala\n\nFriday September 25\, 2020\n\n6:30 pm - 7:30 pm\n\n \n\nThe 2020 Virtual Gala will directly benefit Peconic Bay Medical Center's emergency services and women's health program. By attending and supporting this gala you will directly impact the health and wellness of our community. Join us for a special presentation as we Unmask Our PBMC Heroes and share stories of hope\, compassion and caring. Many sponsorships include an in-home experience. Please visit our dedicated gala site for more information by clicking here.\n\nIf you have any questions or would like more information\, please feel free to call Candace Porter\, in the Foundation Office at 631-548-6166.
X-ALT-DESC;FMTTYPE=text/html:<h2 align="center" style="font-family: Arial\, sans-serif\; font-size: 18px\; font-weight: bold\; color: rgb(255\, 255\, 255)\; line-height: 27px\; margin-bottom: 12pt\; text-align: center\;"><span style="overflow-wrap: break-word\; word-break: break-word\; font-size: 19pt\; font-family: helvetica\, sans-serif\; color: rgb(0\, 89\, 167)\;"><strong><a data-saferedirecturl="https://www.google.com/url?q=https://northwellhealth.org/3PSB-15IUC-5CQ1BD-PWWVN-1/c.aspx&amp\;source=gmail&amp\;ust=1594647305641000&amp\;usg=AFQjCNEQz0bNV9ClxyKhOeIBGCIJJQ5wkA" href="https://northwellhealth.org/3PSB-15IUC-5CQ1BD-PWWVN-1/c.aspx" style="color: rgb(0\, 154\, 223)\; overflow-wrap: break-word\; word-break: break-word\; text-decoration-line: none\;" target="_blank">Please join us for Peconic Bay<br />\nMedical Center&#39\;s 2020 Virtual Gala</a></strong></span></h2>\n\n<h5 align="center" style="color: rgb(58\, 58\, 58)\; font-family: Arial\, sans-serif\; margin-bottom: 7.5pt\; text-align: center\; line-height: 25px\; font-size: 16px\;"><strong><span style="overflow-wrap: break-word\; word-break: break-word\; font-family: helvetica\, sans-serif\; color: rgb(88\, 88\, 90)\;">Friday September 25\, 2020</span></strong></h5>\n\n<h5 align="center" style="color: rgb(58\, 58\, 58)\; font-family: Arial\, sans-serif\; margin-bottom: 7.5pt\; text-align: center\; line-height: 17px\;"><strong><span style="overflow-wrap: break-word\; word-break: break-word\; font-family: helvetica\, sans-serif\; color: rgb(88\, 88\, 90)\; font-size: 16px\;">6:30 pm - 7:30 pm</span></strong></h5>\n\n<p style="color: rgb(58\, 58\, 58)\; padding: 0px\; overflow-wrap: break-word\; word-break: break-word\; margin: 0px\; font-family: &quot\;times new roman&quot\;\;">&nbsp\;</p>\n\n<p style="color: rgb(58\, 58\, 58)\; padding: 0px\; overflow-wrap: break-word\; word-break: break-word\; margin: 0px 0px 16.5pt\; line-height: 25px\; font-size: 16px\; font-family: helvetica\, sans-serif\;"><span style="overflow-wrap: break-word\; word-break: break-word\; color: rgb(88\, 88\, 90)\;">The 2020 Virtual Gala will directly benefit Peconic Bay Medical Center&#39\;s emergency services and women&#39\;s health program. By attending and supporting this gala you will directly impact the health and wellness of our community. Join us for a special presentation as we&nbsp\;<strong>Unmask Our PBMC Heroes&nbsp\;</strong>and share stories of hope\, compassion and caring. Many sponsorships include an in-home experience. Please visit our dedicated gala site for more information by clicking&nbsp\;<a data-saferedirecturl="https://www.google.com/url?q=https://northwellhealth.org/3PSB-15IUC-5CQ1BD-PWWVN-1/c.aspx&amp\;source=gmail&amp\;ust=1594647305641000&amp\;usg=AFQjCNEQz0bNV9ClxyKhOeIBGCIJJQ5wkA" href="https://www.northwellcovid.com/index.cfm?fuseaction=donorDrive.event&amp\;eventID=536&amp\;dm_i=3PSB\,15IUC\,5CQ1BD\,42ZL5\,1" style="color: rgb(0\, 154\, 223)\; overflow-wrap: break-word\; word-break: break-word\; text-decoration-line: none\;" target="_blank">here.</a></span></p>\n\n<p style="color: rgb(58\, 58\, 58)\; padding: 0px\; overflow-wrap: break-word\; word-break: break-word\; margin: 0px\; font-size: 16px\; line-height: 25px\; font-family: helvetica\, sans-serif\;"><span style="overflow-wrap: break-word\; word-break: break-word\; color: rgb(88\, 88\, 90)\;">If you have any questions or would like more information\, please feel free to call Candace Porter\, in the Foundation Office at 631-548-6166.</span></p>\n
LOCATION:
UID:e.3612.11
SEQUENCE:3
DTSTAMP:20260420T061346Z
URL:https://business.northforkchamber.org/events/details/unmasking-the-heroes-11
END:VEVENT

END:VCALENDAR
