BEGIN:VCALENDAR
VERSION:2.0
PRODID:-//ChamberMaster//Event Calendar 2.0//EN
METHOD:PUBLISH
X-PUBLISHED-TTL:P3D
REFRESH-INTERVAL:P3D
CALSCALE:GREGORIAN
BEGIN:VEVENT
DTSTART;VALUE=DATE:20210620
DTEND;VALUE=DATE:20210621
TRANSP:TRANSPARENT
X-MICROSOFT-CDO-ALLDAYEVENT:TRUE
SUMMARY:Summer Solstice Online Art Exhibit and Sale - Southold Historical Society
DESCRIPTION:In this non-juried exhibition\, each work will be sold for $100\, half of which will benefit Southold Historical Society.  The online exhibit and sale will begin on the summer solstice\, June 20 and continue through July 31\, 2021.
X-ALT-DESC;FMTTYPE=text/html:<strong><span style="font-size:12.0pt">In this non-juried exhibition\, each work will be sold for $100\, half of which will benefit Southold Historical Society.&nbsp\; The online exhibit and sale will begin on the summer solstice\, June 20 and continue through July 31\, 2021.&nbsp\;</span></strong>
LOCATION:54325 Main Rd. Southold\, NY 11971
UID:e.3612.236
SEQUENCE:3
DTSTAMP:20260423T113216Z
URL:https://business.northforkchamber.org/events/details/summer-solstice-online-art-exhibit-and-sale-southold-historical-society-236
END:VEVENT

END:VCALENDAR
