BEGIN:VCALENDAR
VERSION:2.0
PRODID:-//ChamberMaster//Event Calendar 2.0//EN
METHOD:PUBLISH
X-PUBLISHED-TTL:P3D
REFRESH-INTERVAL:P3D
CALSCALE:GREGORIAN
BEGIN:VEVENT
DTSTART:20210426T213000Z
DTEND:20210427T003000Z
X-MICROSOFT-CDO-ALLDAYEVENT:FALSE
SUMMARY:Spring Chamber Networking Night
DESCRIPTION:Time to kick back and kick off the spring season on the North Fork. Join us for a great meal and networking :) members only event!
X-ALT-DESC;FMTTYPE=text/html:Time to kick back and kick off the spring season on the North Fork. Join us for a great meal and networking :) members only event!
LOCATION:Noah's 136 Front Street Greenport\, NY 11944 @noahsgreenport
UID:e.3612.229
SEQUENCE:3
DTSTAMP:20260419T163136Z
URL:https://business.northforkchamber.org/events/details/spring-chamber-networking-night-229
END:VEVENT

END:VCALENDAR
