BEGIN:VCALENDAR
VERSION:2.0
PRODID:-//ChamberMaster//Event Calendar 2.0//EN
METHOD:PUBLISH
X-PUBLISHED-TTL:P3D
REFRESH-INTERVAL:P3D
CALSCALE:GREGORIAN
BEGIN:VEVENT
DTSTART:20200124T230000Z
DTEND:20200125T040000Z
X-MICROSOFT-CDO-ALLDAYEVENT:FALSE
SUMMARY:Snowflake Gala
DESCRIPTION:Celebrating our North Fork Community at our annual gala.\n\n\n\nCongratulations to this years honorees:  Community Service Award goes to Doug Geed\, News12 East End Warrior.\n\n\n\nBusiness of the Year Award goes to Porto Bello of Greenport
X-ALT-DESC;FMTTYPE=text/html:Celebrating our North Fork Community at our annual gala.<br />\n<br />\nCongratulations to this years honorees:&nbsp\;&nbsp\;Community Service Award&nbsp\;goes to Doug Geed\, News12 East End Warrior.<br />\n<br />\nBusiness of the Year Award&nbsp\;goes to Porto Bello of Greenport
LOCATION:Raphael Vineyard & Winery 39390 Main Road Peconic\, NY 11958
UID:e.3612.1
SEQUENCE:3
DTSTAMP:20260420T205355Z
URL:https://business.northforkchamber.org/events/details/snowflake-gala-1
END:VEVENT

END:VCALENDAR
