BEGIN:VCALENDAR
VERSION:2.0
PRODID:-//ChamberMaster//Event Calendar 2.0//EN
METHOD:PUBLISH
X-PUBLISHED-TTL:P3D
REFRESH-INTERVAL:P3D
CALSCALE:GREGORIAN
BEGIN:VEVENT
DTSTART:20201109T170000Z
DTEND:20201110T010000Z
X-MICROSOFT-CDO-ALLDAYEVENT:FALSE
SUMMARY:Scallop Take-Away Dinner - Southold Rotary Club - Touch of Venice
DESCRIPTION:Don't miss out on this perennial sell-out! The Southold Rotary Club's Annual Scallop Dinner Take-Away is coming on Monday\, November 9th\, at Touch of Venice Restaurant in Cutchogue. Not a scallop fan? Substitute Chicken Parm. Full dinner\, including salad and dessert.\n\n$40 include gratuity. Online transaction fee additional.\n\nServing starts at noon and runs until 8 p.m. Online sales only at www.scallop2020.eventbrite.com\n\n\n\nGet more info:\n\nRoger Satnick 631-765-1061\n\nWalter Krupski 631-566-2823\n\nKathleen Morris 631-338-6541
X-ALT-DESC;FMTTYPE=text/html:<div dir="auto" style="font-family: &quot\;Segoe UI Historic&quot\;\, &quot\;Segoe UI&quot\;\, Helvetica\, Arial\, sans-serif\; color: rgb(5\, 5\, 5)\; font-size: 15px\; font-style: normal\; font-variant-ligatures: normal\; font-variant-caps: normal\; font-weight: 400\; letter-spacing: normal\; orphans: 2\; text-indent: 0px\; text-transform: none\; white-space: pre-wrap\; widows: 2\; word-spacing: 0px\; -webkit-text-stroke-width: 0px\; background-color: rgb(255\, 255\, 255)\; text-decoration-style: initial\; text-decoration-color: initial\; text-align: start\;">Don&#39\;t miss out on this perennial sell-out! The Southold Rotary Club&#39\;s Annual Scallop Dinner Take-Away is coming on Monday\, November 9th\, at Touch of Venice Restaurant in Cutchogue. Not a scallop fan? Substitute Chicken Parm. Full dinner\, including salad and dessert.</div>\n\n<div dir="auto" style="font-family: &quot\;Segoe UI Historic&quot\;\, &quot\;Segoe UI&quot\;\, Helvetica\, Arial\, sans-serif\; color: rgb(5\, 5\, 5)\; font-size: 15px\; font-style: normal\; font-variant-ligatures: normal\; font-variant-caps: normal\; font-weight: 400\; letter-spacing: normal\; orphans: 2\; text-indent: 0px\; text-transform: none\; white-space: pre-wrap\; widows: 2\; word-spacing: 0px\; -webkit-text-stroke-width: 0px\; background-color: rgb(255\, 255\, 255)\; text-decoration-style: initial\; text-decoration-color: initial\; text-align: start\;">$40 include gratuity. Online transaction fee additional.</div>\n\n<div dir="auto" style="font-family: &quot\;Segoe UI Historic&quot\;\, &quot\;Segoe UI&quot\;\, Helvetica\, Arial\, sans-serif\; color: rgb(5\, 5\, 5)\; font-size: 15px\; font-style: normal\; font-variant-ligatures: normal\; font-variant-caps: normal\; font-weight: 400\; letter-spacing: normal\; orphans: 2\; text-indent: 0px\; text-transform: none\; white-space: pre-wrap\; widows: 2\; word-spacing: 0px\; -webkit-text-stroke-width: 0px\; background-color: rgb(255\, 255\, 255)\; text-decoration-style: initial\; text-decoration-color: initial\; text-align: start\;">Serving starts at noon and runs until 8 p.m. Online sales only at <span style="font-family: inherit\;"><a class="oajrlxb2 g5ia77u1 qu0x051f esr5mh6w e9989ue4 r7d6kgcz rq0escxv nhd2j8a9 nc684nl6 p7hjln8o kvgmc6g5 cxmmr5t8 oygrvhab hcukyx3x jb3vyjys rz4wbd8a qt6c0cv9 a8nywdso i1ao9s8h esuyzwwr f1sip0of lzcic4wl py34i1dx gpro0wi8" href="http://www.scallop2020.eventbrite.com/?fbclid=IwAR0UHS70fDyNjcIN45H2tQS8sCPsmz5X-m5-nsf4BcOVMMvTnsHC3SuoARk" rel="nofollow noopener" role="link" style="color: var(--blue-link)\; cursor: pointer\; text-decoration: none\; outline: none\; list-style: none\; border-width: 0px\; border-style: initial\; border-color: initial\; padding: 0px\; margin: 0px\; touch-action: manipulation\; background-color: transparent\; text-align: inherit\; display: inline\; -webkit-tap-highlight-color: transparent\; box-sizing: border-box\; font-family: inherit\;" tabindex="0" target="_blank">www.scallop2020.eventbrite.com</a><br />\n<br />\nGet more info:<br />\nRoger Satnick 631-765-1061<br />\nWalter Krupski 631-566-2823<br />\nKathleen Morris 631-338-6541</span><br />\n&nbsp\;</div>\n
LOCATION:Touch of Venice Restaurant Main Road\, Cutchogue\, NY
UID:e.3612.21
SEQUENCE:3
DTSTAMP:20260420T021226Z
URL:https://business.northforkchamber.org/events/details/scallop-take-away-dinner-southold-rotary-club-touch-of-venice-21
END:VEVENT

END:VCALENDAR
