BEGIN:VCALENDAR
VERSION:2.0
PRODID:-//ChamberMaster//Event Calendar 2.0//EN
METHOD:PUBLISH
X-PUBLISHED-TTL:P3D
REFRESH-INTERVAL:P3D
CALSCALE:GREGORIAN
BEGIN:VEVENT
DTSTART:20210524T200000Z
DTEND:20210524T220000Z
X-MICROSOFT-CDO-ALLDAYEVENT:FALSE
SUMMARY:SBELIH: COVID-19 Vaccine Distribution
DESCRIPTION:Stony Brook Eastern Long Island Hospital\n\nCOVID-19 Vaccines\n\n (Moderna Vaccine)\n\nPlease click here to make an appointment\nELIGIBILITY CRITERIA:\n\n\n\n-YOU MUST BE 18 YEARS OLD to receive the Moderna COVID-19 Vaccine  [Recipients must bring a Photo ID\, with a date of birth] \n\n-You MUST meet ONE of the following:\n\n      -New York Resident OR\n\n      -Work in New York State OR\n\n      -Study in New York State\n\n\n\nIf you work in New York State\, you can bring a letter from an employer or a paystub\n\nIf you study in New York State\, you can bring a copy of a transcript
X-ALT-DESC;FMTTYPE=text/html:<span style="text-align: center\; font-family: Verdana\, Geneva\, sans-serif\; font-size: 16px\;">Stony Brook Eastern Long Island Hospital</span><br style="font-family: Arial\, Helvetica\, sans-serif\; font-size: 14px\; text-align: center\;" />\n<span style="text-align: center\; font-family: Verdana\, Geneva\, sans-serif\; font-size: 16px\;">COVID-19 Vaccines</span><br style="font-family: Arial\, Helvetica\, sans-serif\; font-size: 14px\; text-align: center\;" />\n<span style="text-align: center\; font-family: Verdana\, Geneva\, sans-serif\; font-size: 16px\;">&nbsp\;(Moderna Vaccine)<br />\nPlease click <a href="https://book.appointment-plus.com/ctbyqg0e/?bblinkid=251137388&amp\;bbemailid=31352529&amp\;bbejrid=1964001211#/">here</a> to make an appointment</span>\n<p style="font-family: Arial\, Helvetica\, sans-serif\; font-size: 14px\; margin-bottom: 1em\;"><span style="font-family: Verdana\, Geneva\, sans-serif\;"><strong>ELIGIBILITY CRITERIA:</strong></span><br />\n<br />\n<span style="font-family: Verdana\, Geneva\, sans-serif\;">-YOU MUST BE 18 YEARS OLD to receive the Moderna COVID-19 Vaccine &nbsp\;[Recipients must bring a Photo ID\, with a date of birth]&nbsp\;</span><br />\n<span style="font-family: Verdana\, Geneva\, sans-serif\;">-You MUST meet ONE of the following:</span><br />\n<span style="font-family: Verdana\, Geneva\, sans-serif\;">&nbsp\;&nbsp\;&nbsp\;&nbsp\;&nbsp\; -New York Resident OR</span><br />\n<span style="font-family: Verdana\, Geneva\, sans-serif\;">&nbsp\;&nbsp\;&nbsp\;&nbsp\;&nbsp\; -Work in New York State OR</span><br />\n<span style="font-family: Verdana\, Geneva\, sans-serif\;">&nbsp\;&nbsp\;&nbsp\;&nbsp\;&nbsp\; -Study in New York State</span></p>\n\n<p style="font-family: Arial\, Helvetica\, sans-serif\; font-size: 14px\; margin-bottom: 1em\;"><br />\n<span style="font-family: Verdana\, Geneva\, sans-serif\;">If you work in New York State\, you can bring a letter from an employer or a paystub<br />\nIf you study in New York State\, you can bring a copy of a transcript</span></p>\n\n<p style="font-family: Arial\, Helvetica\, sans-serif\; font-size: 14px\; margin-bottom: 1em\;">&nbsp\;</p>\n
LOCATION:201 Manor Place\, Conference Room Front Entrance of the Hospital Greenport\, NY 11944
UID:e.3612.290
SEQUENCE:3
DTSTAMP:20260419T144641Z
URL:https://business.northforkchamber.org/events/details/sbelih-covid-19-vaccine-distribution-290
END:VEVENT

END:VCALENDAR
