BEGIN:VCALENDAR
VERSION:2.0
PRODID:-//ChamberMaster//Event Calendar 2.0//EN
METHOD:PUBLISH
X-PUBLISHED-TTL:P3D
REFRESH-INTERVAL:P3D
CALSCALE:GREGORIAN
BEGIN:VEVENT
DTSTART:20260228T180000Z
DTEND:20260228T210000Z
X-MICROSOFT-CDO-ALLDAYEVENT:FALSE
SUMMARY:Northforks Fight Cabin Fever Music Series
DESCRIPTION:North Fork Cabin Fever Music Series at Raphael Vineyard every Saturday and Sunday. Running every weekend through Memorial Day\, this series features a rotating lineup of talented local musicians\, offering fresh sounds and great vibes each week. Enjoy great Raphael wine\, live music\, and a welcoming community atmosphere\, with small bites available to complement your glass. Doors open at noon\, with showtime at 1 PM. Call 631-765-1100\, ext 3 for details and check the schedule to see who's performing next!
X-ALT-DESC;FMTTYPE=text/html:<!--StartFragment-->North Fork Cabin Fever Music Series at Raphael Vineyard every Saturday and Sunday. Running every weekend through Memorial Day\, this series features a rotating lineup of talented local musicians\, offering fresh sounds and great vibes each week. Enjoy great Raphael wine\, live music\, and a welcoming community atmosphere\, with small bites available to complement your glass. Doors open at noon\, with showtime at 1 PM. Call 631-765-1100\, ext 3 for details and check the schedule to see who&#39\;s performing next!<!--EndFragment-->
LOCATION:39390 Route 25 Peconic NY 11958
UID:e.3612.990
SEQUENCE:3
DTSTAMP:20260422T024936Z
URL:https://business.northforkchamber.org/events/details/northforks-fight-cabin-fever-music-series-02-28-2026-990
END:VEVENT

END:VCALENDAR
