BEGIN:VCALENDAR
VERSION:2.0
PRODID:-//ChamberMaster//Event Calendar 2.0//EN
METHOD:PUBLISH
X-PUBLISHED-TTL:P3D
REFRESH-INTERVAL:P3D
CALSCALE:GREGORIAN
BEGIN:VEVENT
DTSTART;VALUE=DATE:20210326
DTEND;VALUE=DATE:20210327
TRANSP:TRANSPARENT
X-MICROSOFT-CDO-ALLDAYEVENT:TRUE
SUMMARY:Long Island Winterfest
DESCRIPTION:Long Island Winterfest  is back and expanding across Long Island February 1-March 21\, 2021. Historically\, this popular event\, which began in 2007 as Jazz on the Vine in the North Fork Vineyards\, has grown over the years onto both forks of Long Island -  achieving the goal of increased cultural tourism during the winter months. Each year Long Island Winterfest  (LIWF) has provided thousands of attendees with exceptional music performances and cultural experiences. While the focus was initially on jazz music\, LIWF has redefined itself to include all music genres\, arts and theater\, food and beverage\, hospitality\, farms and nonprofits.  Additionally\, LIWF has grown into a relationship-builder\; not only for local crafters and business owners to lure returning guests\, but also musicians seeking new audiences\, investors searching for opportunity\, new businesses to market their goods and nonprofits expanding their reach.
X-ALT-DESC;FMTTYPE=text/html:<span style="color:#1155cd"><span style="font-family:calibri\,sans-serif"><span style="font-size:12pt">Long Island Winterfest&reg\; </span></span></span><span style="font-family:calibri\,sans-serif"><span style="font-size:12pt">is back and expanding across Long Island February 1-March 21\, 2021. Historically\, this popular event\, which began in 2007 as Jazz on the Vine in the North Fork Vineyards\, has grown over the years onto both forks of Long Island -&nbsp\; achieving the goal of increased cultural tourism during the winter months. Each year Long Island Winterfest&reg\; (LIWF) has provided thousands of attendees with exceptional music performances and cultural experiences. While the focus was initially on jazz music\, LIWF has redefined itself to include all music genres\, arts and theater\, food and beverage\, hospitality\, farms and nonprofits. </span></span>&nbsp\;<span style="font-family:calibri\,sans-serif"><span style="font-size:12pt">Additionally\, LIWF has grown into a relationship-builder\; not only for local crafters and business owners to lure returning guests\, but also musicians seeking new audiences\, investors searching for opportunity\, new businesses to market their goods and nonprofits expanding their reach.</span></span>
LOCATION:
UID:e.3612.79
SEQUENCE:3
DTSTAMP:20260419T174852Z
URL:https://business.northforkchamber.org/events/details/long-island-winterfest-03-26-2021-79
END:VEVENT

END:VCALENDAR
