BEGIN:VCALENDAR
VERSION:2.0
PRODID:-//ChamberMaster//Event Calendar 2.0//EN
METHOD:PUBLISH
X-PUBLISHED-TTL:P3D
REFRESH-INTERVAL:P3D
CALSCALE:GREGORIAN
BEGIN:VEVENT
DTSTART:20250309T000000Z
DTEND:20250309T030000Z
X-MICROSOFT-CDO-ALLDAYEVENT:FALSE
SUMMARY:Comedy Night at Ziggy's Place
DESCRIPTION:Get ready for a night of laughter and fun! Join us at Ziggy's Place for a live comedy performance by John Ziegler and Chris Monty. John Ziegler: A seasoned comedian with over 15 years in the industry\, Ziegler has opened for legends like Sebastian Maniscalco\, Gilbert Gottfried\, and Jim Breuer. He won the 2016 "Funniest Comic on the East Coast" contest and has a comedy special\, Getting My Affairs in Order\, available on YouTube. Chris Monty: Known for his Drybar comedy special and appearances on the CBS sitcom Kevin Can Wait.
X-ALT-DESC;FMTTYPE=text/html:Get ready for a night of laughter and fun! Join us at Ziggy&#39\;s Place for a live comedy performance by John Ziegler and Chris Monty. John Ziegler: A seasoned comedian with over 15 years in the industry\, Ziegler has opened for legends like Sebastian Maniscalco\, Gilbert Gottfried\, and Jim Breuer. He won the 2016 &quot\;Funniest Comic on the East Coast&quot\; contest and has a comedy special\, Getting My Affairs in Order\, available on YouTube. Chris Monty: Known for his Drybar comedy special and appearances on the CBS sitcom Kevin Can Wait.
LOCATION:Ziggy's Place (Downstairs\, Polish Hall\, Riverhead)
UID:e.3612.898
SEQUENCE:3
DTSTAMP:20260423T103429Z
URL:https://business.northforkchamber.org/events/details/comedy-night-at-ziggy-s-place-898
END:VEVENT

END:VCALENDAR
