BEGIN:VCALENDAR
VERSION:2.0
PRODID:-//ChamberMaster//Event Calendar 2.0//EN
METHOD:PUBLISH
X-PUBLISHED-TTL:P3D
REFRESH-INTERVAL:P3D
CALSCALE:GREGORIAN
BEGIN:VEVENT
DTSTART:20201106T180000Z
DTEND:20201106T190000Z
X-MICROSOFT-CDO-ALLDAYEVENT:FALSE
SUMMARY:Alzheimer's Disease: What You Need to Know - A Zoom Meeting
DESCRIPTION:Alzheimer's Disease: What You Need to Know\n\nA Zoom Meeting presented by Stony Brook Eastern Long Island Hospital\, Friday\, November 6\, 1:00 p.m.\n\n\n\nNovember is National Alzheimer's Disease Awareness Month. Join Christopher Christodoulou\, Ph.D. to learn about Alzheimer's disease awareness\, prevention and treatment. \n\n\n\nClick Here to Register\n\n(Event is Free - Zoom Access provided at registration)\n\n\n\nDr. Christodoulou is a clinical & research neuropsychologist\, Research Assistant Professor of Psychiatry\, Behavioral Health and Neurology\, Renaissance School of Medicine\, Stony Brook University Center of Excellence in Alzheimer's Disease.
X-ALT-DESC;FMTTYPE=text/html:<span style="font-size:18px\;"><strong>Alzheimer&#39\;s Disease: What You Need to Know</strong></span><br />\n<em><span style="font-size:16px\;">A Zoom Meeting presented by Stony Brook Eastern Long Island Hospital\, Friday\, November 6\, 1:00 p.m.</span></em><br />\n<br />\n<span style="font-size:16px\;">November is National Alzheimer&#39\;s Disease Awareness Month. Join Christopher Christodoulou\, Ph.D. to learn about Alzheimer&#39\;s disease awareness\, prevention and treatment.&nbsp\;<br />\n<br />\n<span style="font-size:18px\;"><strong><a href="https://bbox.blackbaudhosting.com/webforms/linkredirect?srcid=25200222&amp\;srctid=1&amp\;erid=1693203841&amp\;trid=ba84b4a9-2751-49e1-99a3-26085fe7a590&amp\;linkid=244346518&amp\;isbbox=1&amp\;pid=0">Click Here</a> to Register<br />\n(Event is Free - Zoom Access provided at registration)</strong></span></span><br />\n<br />\n<span style="font-size:14px\;"><em>Dr. Christodoulou is a clinical &amp\; research neuropsychologist\, Research Assistant Professor of Psychiatry\, Behavioral Health and Neurology\, Renaissance School of Medicine\, Stony Brook University Center of Excellence in Alzheimer&#39\;s Disease.</em></span>
LOCATION:This is a Zoom event. Participants may join from anywhere with an internet connection.
UID:e.3612.20
SEQUENCE:3
DTSTAMP:20260420T021350Z
URL:https://business.northforkchamber.org/events/details/alzheimer-s-disease-what-you-need-to-know-a-zoom-meeting-20
END:VEVENT

END:VCALENDAR
